BEGIN:VCALENDAR
VERSION:2.0
PRODID:-//WIKIMEDIA ESPAÑA - ECPv6.15.20//NONSGML v1.0//EN
CALSCALE:GREGORIAN
METHOD:PUBLISH
X-WR-CALNAME:WIKIMEDIA ESPAÑA
X-ORIGINAL-URL:https://wikimedia.es
X-WR-CALDESC:Eventos para WIKIMEDIA ESPAÑA
REFRESH-INTERVAL;VALUE=DURATION:PT1H
X-Robots-Tag:noindex
X-PUBLISHED-TTL:PT1H
BEGIN:VTIMEZONE
TZID:Europe/Madrid
BEGIN:DAYLIGHT
TZOFFSETFROM:+0100
TZOFFSETTO:+0200
TZNAME:CEST
DTSTART:20240331T010000
END:DAYLIGHT
BEGIN:STANDARD
TZOFFSETFROM:+0200
TZOFFSETTO:+0100
TZNAME:CET
DTSTART:20241027T010000
END:STANDARD
BEGIN:DAYLIGHT
TZOFFSETFROM:+0100
TZOFFSETTO:+0200
TZNAME:CEST
DTSTART:20250330T010000
END:DAYLIGHT
BEGIN:STANDARD
TZOFFSETFROM:+0200
TZOFFSETTO:+0100
TZNAME:CET
DTSTART:20251026T010000
END:STANDARD
BEGIN:DAYLIGHT
TZOFFSETFROM:+0100
TZOFFSETTO:+0200
TZNAME:CEST
DTSTART:20260329T010000
END:DAYLIGHT
BEGIN:STANDARD
TZOFFSETFROM:+0200
TZOFFSETTO:+0100
TZNAME:CET
DTSTART:20261025T010000
END:STANDARD
END:VTIMEZONE
BEGIN:VEVENT
DTSTART;TZID=Europe/Madrid:20251201T133000
DTEND;TZID=Europe/Madrid:20251201T153000
DTSTAMP:20260420T003536
CREATED:20251127T132104Z
LAST-MODIFIED:20251128T123400Z
UID:7579-1764595800-1764603000@wikimedia.es
SUMMARY:Formación interna: sesión sobre Wikipedia a la Escuela de Arte y Superior de Diseño (Mérida)
DESCRIPTION:La Escuela de Arte y Superior de Diseño de Mérida ha incorporado a este curso un proyecto innovador que integra Wikipedia en el aula como herramienta de aprendizaje. En este contexto\, el 1 de diciembre de 2025 a las 13:30 h\, Wikimedia España ofrecerá una sesión formativa en línea para guiar al alumnado en sus primeras ediciones y resolver dudas en tiempo real. \nEl taller será impartido por Rubén Ojeda\, responsable de proyectos de Wikimedia España\, y podrá reutilizarse en futuras ediciones del proyecto. \nContenidos de la sesión\n\nLos pilares del movimiento Wikimedia.\nEdición responsable y uso de fuentes fiables.\nCómo estructurar un artículo enciclopédico.\nResolución de dudas técnicas y editoriales.\nAcompañamiento en la redacción inicial de los artículos.\n\nEste proyecto\, dirigido al alumnado de Diseño Gráfico y Diseño de Interiores\, demuestra el potencial de Wikipedia como recurso educativo: aprender creando contenido libre y útil para miles de personas.
URL:https://wikimedia.es/evento/sesion-formativa-en-wikipedia-escuela-de-arte-y-superior-de-diseno-merida/
CATEGORIES:Formación,Institucional
ATTACH;FMTTYPE=image/jpeg:https://wikimedia.es/wp-content/uploads/2025/11/image-3.jpeg
END:VEVENT
END:VCALENDAR