BEGIN:VCALENDAR
VERSION:2.0
PRODID:-//WIKIMEDIA ESPAÑA - ECPv6.15.20//NONSGML v1.0//EN
CALSCALE:GREGORIAN
METHOD:PUBLISH
X-WR-CALNAME:WIKIMEDIA ESPAÑA
X-ORIGINAL-URL:https://wikimedia.es
X-WR-CALDESC:Eventos para WIKIMEDIA ESPAÑA
REFRESH-INTERVAL;VALUE=DURATION:PT1H
X-Robots-Tag:noindex
X-PUBLISHED-TTL:PT1H
BEGIN:VTIMEZONE
TZID:Europe/Madrid
BEGIN:DAYLIGHT
TZOFFSETFROM:+0100
TZOFFSETTO:+0200
TZNAME:CEST
DTSTART:20250330T010000
END:DAYLIGHT
BEGIN:STANDARD
TZOFFSETFROM:+0200
TZOFFSETTO:+0100
TZNAME:CET
DTSTART:20251026T010000
END:STANDARD
BEGIN:DAYLIGHT
TZOFFSETFROM:+0100
TZOFFSETTO:+0200
TZNAME:CEST
DTSTART:20260329T010000
END:DAYLIGHT
BEGIN:STANDARD
TZOFFSETFROM:+0200
TZOFFSETTO:+0100
TZNAME:CET
DTSTART:20261025T010000
END:STANDARD
BEGIN:DAYLIGHT
TZOFFSETFROM:+0100
TZOFFSETTO:+0200
TZNAME:CEST
DTSTART:20270328T010000
END:DAYLIGHT
BEGIN:STANDARD
TZOFFSETFROM:+0200
TZOFFSETTO:+0100
TZNAME:CET
DTSTART:20271031T010000
END:STANDARD
END:VTIMEZONE
BEGIN:VEVENT
DTSTART;VALUE=DATE:20260101
DTEND;VALUE=DATE:20260201
DTSTAMP:20260419T165940
CREATED:20251226T152121Z
LAST-MODIFIED:20251226T152200Z
UID:7645-1767225600-1769903999@wikimedia.es
SUMMARY:Editatón: Día del Dominio Público (en línea)
DESCRIPTION:El 1 de enero se celebra el Día del Dominio Público\, una fecha que conmemora el momento en que expiran los derechos de autoría de numerosas obras. A partir de ese día\, películas\, fotografías\, libros\, composiciones musicales y otros materiales pasan a formar parte del dominio público\, lo que permite su uso\, difusión y reutilización libre por parte de toda la sociedad. \nCon motivo de esta celebración\, Wikimedia España y Wikimedia Portugal organizan un editatón online durante todo el mes de enero\, orientado a mejorar y ampliar los artículos de Wikipedia relacionados con autores y autoras cuyas obras pasan al dominio público en 2026\, fomentando así el acceso libre al conocimiento y la difusión del patrimonio cultural. \nParticipa AQUÍ. 
URL:https://wikimedia.es/evento/editaton-dia-del-dominio-publico-en-linea/
CATEGORIES:Comunidad,Editatón,Institucional
END:VEVENT
BEGIN:VEVENT
DTSTART;TZID=Europe/Madrid:20260115T170000
DTEND;TZID=Europe/Madrid:20260115T190000
DTSTAMP:20260419T165940
CREATED:20260105T110622Z
LAST-MODIFIED:20260105T110700Z
UID:7671-1768496400-1768503600@wikimedia.es
SUMMARY:Wikipedia 25: Celebración virtual e internacional
DESCRIPTION:Wikipedia cumple 25 años y lo celebramos a lo grande el 15 de enero. Únete a la fiesta global en línea que reúne a la comunidad editora de todo el mundo: una cuenta regresiva con trivia\, un recorrido por 25 años de colaboración\, música creada a partir de contenidos Wikimedia\, juegos\, historias de wikipedistas y apariciones especiales. \n\nEl evento se transmitirá por Eventyay y YouTube.\nPróximamente se compartirá el programa completo y los enlaces de acceso.\nRegístrate para recibir todas las actualizaciones.\n\n¡Celebremos juntos/as 25 años haciendo Internet un poco mejor\, edición a edición! \n\n\nFecha: 15 de enero\n\n\n\nHora: 17:00 – 18:00 h\n\n\n\nQué habrá: juegos\, entretenimiento\, invitados/as y premios\n\n\n\n\nSerá una oportunidad para conocer más sobre Wikipedia\, celebrar con la comunidad y descubrir cómo tú también puedes contribuir a este proyecto que sigue creciendo cada día.  \n\n\n\nRegístrate AQUÍ.
URL:https://wikimedia.es/evento/wikipedia-25-celebracion-virtual-e-internacional/
CATEGORIES:Campañas,Comunidad
ATTACH;FMTTYPE=image/png:https://wikimedia.es/wp-content/uploads/2026/01/2-e1767606870556.png
END:VEVENT
END:VCALENDAR