BEGIN:VCALENDAR
VERSION:2.0
PRODID:-//WIKIMEDIA ESPAÑA - ECPv6.15.20//NONSGML v1.0//EN
CALSCALE:GREGORIAN
METHOD:PUBLISH
X-ORIGINAL-URL:https://wikimedia.es
X-WR-CALDESC:Eventos para WIKIMEDIA ESPAÑA
REFRESH-INTERVAL;VALUE=DURATION:PT1H
X-Robots-Tag:noindex
X-PUBLISHED-TTL:PT1H
BEGIN:VTIMEZONE
TZID:Europe/Madrid
BEGIN:DAYLIGHT
TZOFFSETFROM:+0100
TZOFFSETTO:+0200
TZNAME:CEST
DTSTART:20240331T010000
END:DAYLIGHT
BEGIN:STANDARD
TZOFFSETFROM:+0200
TZOFFSETTO:+0100
TZNAME:CET
DTSTART:20241027T010000
END:STANDARD
BEGIN:DAYLIGHT
TZOFFSETFROM:+0100
TZOFFSETTO:+0200
TZNAME:CEST
DTSTART:20250330T010000
END:DAYLIGHT
BEGIN:STANDARD
TZOFFSETFROM:+0200
TZOFFSETTO:+0100
TZNAME:CET
DTSTART:20251026T010000
END:STANDARD
BEGIN:DAYLIGHT
TZOFFSETFROM:+0100
TZOFFSETTO:+0200
TZNAME:CEST
DTSTART:20260329T010000
END:DAYLIGHT
BEGIN:STANDARD
TZOFFSETFROM:+0200
TZOFFSETTO:+0100
TZNAME:CET
DTSTART:20261025T010000
END:STANDARD
END:VTIMEZONE
BEGIN:VEVENT
DTSTART;TZID=Europe/Madrid:20250607T110000
DTEND;TZID=Europe/Madrid:20250607T130000
DTSTAMP:20260420T060439
CREATED:20250507T140015Z
LAST-MODIFIED:20250507T140015Z
UID:6307-1749294000-1749301200@wikimedia.es
SUMMARY:Asamblea General Ordinaria de Wikimedia España
DESCRIPTION:La próxima Asamblea General Ordinaria de Wikimedia España\, se celebrará el sábado 7 de junio de 2025. Con primera convocatoria a las 10:45 h CET\, y segunda convocatoria a las 11:00 h CET\, con modalidad en línea\, a través de Zoom. \nPara participar en la Asamblea es condición indispensable ser socio/a de Wikimedia España\, además de estar al día en sus cuotas. \n🔗 Más información y documentación AQUÍ.
URL:https://wikimedia.es/evento/asamblea-general-ordinaria-de-wikimedia-espana/
CATEGORIES:Asamblea,Asociación
END:VEVENT
END:VCALENDAR