BEGIN:VCALENDAR
VERSION:2.0
PRODID:-//WIKIMEDIA ESPAÑA - ECPv6.15.20//NONSGML v1.0//EN
CALSCALE:GREGORIAN
METHOD:PUBLISH
X-WR-CALNAME:WIKIMEDIA ESPAÑA
X-ORIGINAL-URL:https://wikimedia.es
X-WR-CALDESC:Eventos para WIKIMEDIA ESPAÑA
REFRESH-INTERVAL;VALUE=DURATION:PT1H
X-Robots-Tag:noindex
X-PUBLISHED-TTL:PT1H
BEGIN:VTIMEZONE
TZID:Europe/Madrid
BEGIN:DAYLIGHT
TZOFFSETFROM:+0100
TZOFFSETTO:+0200
TZNAME:CEST
DTSTART:20240331T010000
END:DAYLIGHT
BEGIN:STANDARD
TZOFFSETFROM:+0200
TZOFFSETTO:+0100
TZNAME:CET
DTSTART:20241027T010000
END:STANDARD
BEGIN:DAYLIGHT
TZOFFSETFROM:+0100
TZOFFSETTO:+0200
TZNAME:CEST
DTSTART:20250330T010000
END:DAYLIGHT
BEGIN:STANDARD
TZOFFSETFROM:+0200
TZOFFSETTO:+0100
TZNAME:CET
DTSTART:20251026T010000
END:STANDARD
BEGIN:DAYLIGHT
TZOFFSETFROM:+0100
TZOFFSETTO:+0200
TZNAME:CEST
DTSTART:20260329T010000
END:DAYLIGHT
BEGIN:STANDARD
TZOFFSETFROM:+0200
TZOFFSETTO:+0100
TZNAME:CET
DTSTART:20261025T010000
END:STANDARD
END:VTIMEZONE
BEGIN:VEVENT
DTSTART;TZID=Europe/Madrid:20250329T103000
DTEND;TZID=Europe/Madrid:20250329T133000
DTSTAMP:20260422T203759
CREATED:20250228T112544Z
LAST-MODIFIED:20250325T091036Z
UID:5433-1743244200-1743255000@wikimedia.es
SUMMARY:Editatona: Wikiproyecto Mujeres y Salud
DESCRIPTION:En el marco del Proyecto Mujer y Salud en Wikipedia\, el próximo 29 de marzo se realizará una Editatona de tres horas\, orientada mejorar y ampliar el contenido sobre salud de las mujeres. \nEl evento se desarrollará de 10:30 a 13:30 horas en Barcelona\, y contará con servicio de canguraje. \nObjetivos\n\nMejorar la calidad del contenido y las referencias de los artículos en Wikipedia.\nTraducir entradas ya existentes en otras lenguas.\nIncorporar la perspectiva de género en los artículos\nAportar imágenes a Wikimedia Commons .\nCompletar las entradas de Wikidata correspondientes\n\nEste proyecto\, se une al WikiProject Women’s Health con el propósito de identificar y reducir las lagunas de conocimiento sobre la salud de las mujeres en la Wikipedia\, en español\, catalán\, gallego y euskera\, principalmente. \nPara participar de la Editatona\, ingresa aquí. 
URL:https://wikimedia.es/evento/editatona-wikiproyecto-mujeres-y-salud/
CATEGORIES:Comunidad,Editatona
ATTACH;FMTTYPE=image/png:https://wikimedia.es/wp-content/uploads/2025/02/Womens_health_icon.svg_.png
END:VEVENT
END:VCALENDAR