BEGIN:VCALENDAR
VERSION:2.0
PRODID:-//WIKIMEDIA ESPAÑA - ECPv6.15.20//NONSGML v1.0//EN
CALSCALE:GREGORIAN
METHOD:PUBLISH
X-ORIGINAL-URL:https://wikimedia.es
X-WR-CALDESC:Eventos para WIKIMEDIA ESPAÑA
REFRESH-INTERVAL;VALUE=DURATION:PT1H
X-Robots-Tag:noindex
X-PUBLISHED-TTL:PT1H
BEGIN:VTIMEZONE
TZID:Europe/Madrid
BEGIN:DAYLIGHT
TZOFFSETFROM:+0100
TZOFFSETTO:+0200
TZNAME:CEST
DTSTART:20240331T010000
END:DAYLIGHT
BEGIN:STANDARD
TZOFFSETFROM:+0200
TZOFFSETTO:+0100
TZNAME:CET
DTSTART:20241027T010000
END:STANDARD
BEGIN:DAYLIGHT
TZOFFSETFROM:+0100
TZOFFSETTO:+0200
TZNAME:CEST
DTSTART:20250330T010000
END:DAYLIGHT
BEGIN:STANDARD
TZOFFSETFROM:+0200
TZOFFSETTO:+0100
TZNAME:CET
DTSTART:20251026T010000
END:STANDARD
BEGIN:DAYLIGHT
TZOFFSETFROM:+0100
TZOFFSETTO:+0200
TZNAME:CEST
DTSTART:20260329T010000
END:DAYLIGHT
BEGIN:STANDARD
TZOFFSETFROM:+0200
TZOFFSETTO:+0100
TZNAME:CET
DTSTART:20261025T010000
END:STANDARD
END:VTIMEZONE
BEGIN:VEVENT
DTSTART;VALUE=DATE:20250206
DTEND;VALUE=DATE:20250208
DTSTAMP:20260424T213950
CREATED:20250114T160811Z
LAST-MODIFIED:20250216T093832Z
UID:4797-1738800000-1738972799@wikimedia.es
SUMMARY:Taller: Lectura Crítica para la UAM
DESCRIPTION:La Universidad de Mayores de la Universidad Autónoma de Madrid (UAM)\, en colaboración con la Fundación para el Conocimiento Madri+d y Wikimedia España\, ha organizado el taller “Lectura crítica en internet”\, dirigido al alumnado de la Universidad de Mayores\, habituado a la consulta de información y noticias por internet\, y con interés en conocer más sobre Wikipedia y su fiabilidad. \nEl taller tiene como objetivo identificar buenas fuentes de información\, conocer Wikipedia y analizar su contenido\, así como identificar mejoras a realizar en los artículos de Wikipedia. Consta de tres sesiones: \n\n¿Cómo busca el alumnado información en internet?\n¿Cómo verifica esta información?\nLectura crítica grupal y análisis de fuentes\n\nEl taller se impartirá en la Facultad de Filosofía y Letras del Campus de Cantoblanco\, los días 6\, 7 y 14 de febrero de 2025.
URL:https://wikimedia.es/evento/taller-lectura-critica-para-la-uam-2/
CATEGORIES:Formación
ATTACH;FMTTYPE=image/jpeg:https://wikimedia.es/wp-content/uploads/2024/10/512px-10_sharing_book_cover_background.jpg
END:VEVENT
BEGIN:VEVENT
DTSTART;TZID=Europe/Madrid:20250211T100000
DTEND;TZID=Europe/Madrid:20250211T140000
DTSTAMP:20260424T213950
CREATED:20250120T121308Z
LAST-MODIFIED:20250205T091817Z
UID:4902-1739268000-1739282400@wikimedia.es
SUMMARY:Evento: "Mujeres referentes en la ciencia: Sus experiencias\, retos\, dificultades y logros personales" (híbrido)
DESCRIPTION:El próximo 11 de febrero te invitamos a participar del evento en conmemoración del «Día Internacional de la Mujer y la Niña en la Ciencia (11F)». Este evento\, organizado entre la Universidad Complutense de Madrid (UCM)\, Universidad Autónoma de Madrid (UAM)\, Universidad Rey Juan Carlos (URJC)\, Fundación para el Conocimiento madri+d y Wikimedia España\, tendrá como temática a las «Mujeres referentes en la ciencia: Sus experiencias\, retos\, dificultades y logros personales»\, y contaremos con representantes de las distintas instituciones organizadoras\, quienes nos darán su visión y experiencia sobre ello. \nEl evento consta de dos partes. Primero se desarrollará una mesa redonda con la participación de los representantes de las instituciones\, y después de ello\, se realizará la Editatona de edición en Wikipedia\, con la selección de artículos de biografía de mujeres en la ciencia. \nCuándo y dónde\nEl evento tendrá lugar el martes 11 de febrero de 2025\, entre las 10:00 y las 14:00 h. (09:00-13:00 UTC) en la Facultad de Veterinaria de la Universidad Complutense de Madrid (Av. Puerta de Hierro\, s/n\, Madrid). La mesa redonda se desarrollará en el Salón de Actos\, mientras que\, la editatona se llevará a cabo en el Aula de informática 3 del Edificio Central de la Facultad de Veterinaria. Aquí más información.  \nAdemás\, con respecto a la editatona\, también podrás participar de forma virtual a través de Zoom. Inscripciones. 
URL:https://wikimedia.es/evento/evento-mujeres-referentes-en-la-ciencia-sus-experiencias-retos-dificultades-y-logros-personales-hibrido/
LOCATION:Facultad de Veterinaria de la Universidad Complutense de Madrid\, Av. Puerta de Hierro\, s/n\, Madrid\, Madrid\, Madrid\, Spain
CATEGORIES:Editatona,Institucional
ATTACH;FMTTYPE=image/png:https://wikimedia.es/wp-content/uploads/2025/01/Post-de-Instagram-11F_1.png
END:VEVENT
BEGIN:VEVENT
DTSTART;VALUE=DATE:20250214
DTEND;VALUE=DATE:20250215
DTSTAMP:20260424T213950
CREATED:20250128T175735Z
LAST-MODIFIED:20250128T175735Z
UID:5034-1739491200-1739577599@wikimedia.es
SUMMARY:Taller: Lectura Crítica para la UAM
DESCRIPTION:La Universidad de Mayores de la Universidad Autónoma de Madrid (UAM)\, en colaboración con la Fundación para el Conocimiento Madri+d y Wikimedia España\, ha organizado el taller “Lectura crítica en internet”\, dirigido al alumnado de la Universidad de Mayores\, habituado a la consulta de información y noticias por internet\, y con interés en conocer más sobre Wikipedia y su fiabilidad. \nEl taller tiene como objetivo identificar buenas fuentes de información\, conocer Wikipedia y analizar su contenido\, así como identificar mejoras a realizar en los artículos de Wikipedia. Consta de tres sesiones: \n\n¿Cómo busca el alumnado información en internet?\n¿Cómo verifica esta información?\nLectura crítica grupal y análisis de fuentes\n\nEl taller se impartirá en la Facultad de Filosofía y Letras del Campus de Cantoblanco\, los días 6\, 7 y 14 de febrero de 2025.
URL:https://wikimedia.es/evento/taller-lectura-critica-para-la-uam/
CATEGORIES:Formación
ATTACH;FMTTYPE=image/jpeg:https://wikimedia.es/wp-content/uploads/2024/10/512px-10_sharing_book_cover_background.jpg
END:VEVENT
BEGIN:VEVENT
DTSTART;TZID=Europe/Madrid:20250215T103000
DTEND;TZID=Europe/Madrid:20250215T133000
DTSTAMP:20260424T213950
CREATED:20250129T112820Z
LAST-MODIFIED:20250129T112820Z
UID:5087-1739615400-1739626200@wikimedia.es
SUMMARY:Editatón cinematográfico: cine quinqui (híbrido)
DESCRIPTION:Sobre el cine quinqui y citando al profesor Francisco Aguilar: \n\n\nEl cine quinqui es uno de los espacios más singulares de la historia del cine español\, hablamos de un cine social\, de los bajos fondos\, que retrata esa España del desencanto\, marcada por la Transición\, la crisis económica y la explosión de la Movida que son muy coetáneas a este subgénero cinematofráfico que propone nuevos planteamientos.\n\n\nEste mes de febrero os convocamos para ampliar la información en Wikipedia sobre el denominado «cine quinqui»\, un género cinematográfico que tuvo gran impacto en España. El editatón tiene carácter híbrido y por tanto abierto a participantes en remoto y la parte presencial se celebrará en la propia Casa del Cine el sábado día 15 de 10:30 a 13:30\, dedicada principalmente\, pero no en exclusiva\, a la edición en Wikipedia en Español. \nMás información\, aquí. 
URL:https://wikimedia.es/evento/editaton-cinematografico-cine-quinqui-hibrido/
CATEGORIES:Comunidad,Editatón
ATTACH;FMTTYPE=image/jpeg:https://wikimedia.es/wp-content/uploads/2025/01/Seat_124_D_1971_14329129338-scaled.jpg
END:VEVENT
BEGIN:VEVENT
DTSTART;TZID=Europe/Madrid:20250221T173000
DTEND;TZID=Europe/Madrid:20250221T193000
DTSTAMP:20260424T213950
CREATED:20250203T162701Z
LAST-MODIFIED:20250203T173107Z
UID:5216-1740159000-1740166200@wikimedia.es
SUMMARY:Soberanía Dixital II: Mundo Wikimedia\, comunidade de todos para todos (Lugo)
DESCRIPTION:El próximo 21 de febrero\, la Biblioteca Pública Municipal de Ribadeo «El Viejo Pancho»\, acogerá el evento Soberanía Dixital II: Mundo Wikimedia\, comunidade de todos para todos\, una actividad pensada para acercar al público en general al fascinante universo de las wikis de la familia Wikimedia. Esta charla\, parte de un ciclo de actividades que se desarrollarán a lo largo de 2025\, tiene como objetivo difundir el conocimiento y las posibilidades de proyectos como Wikipedia\, Wikidata y muchos más. \nEl evento incluirá una presentación\, seguida de una rueda de preguntas y una muestra práctica\, donde se explorarán diversos proyectos Wikimedia. Sus asistentes podrán conocer ejemplos de edición\, búsqueda y obtención de información dentro de estos recursos. \nComo complemento\, se entregará un fanzine de 8 páginas en formato A5\, con artículos relacionados con los temas tratados en la jornada. La portada y la contraportada estarán dedicadas al mundo de los fanzines y contenidos en gallego\, profundizando en el uso de Wikimedia en gallego. \nLa actividad se desarrollará principalmente en gallego y está abierta a todas las personas interesadas en explorar las herramientas colaborativas y el conocimiento libre. ¡No te lo pierdas! \nInscripciones: Tf. 696200678 y 367502818.
URL:https://wikimedia.es/evento/soberania-dixital-ii-mundo-wikimedia-comunidade-de-todos-para-todos-lugo/
CATEGORIES:Charla,Comunidad
ATTACH;FMTTYPE=image/png:https://wikimedia.es/wp-content/uploads/2025/02/amarinha.gal_.png
END:VEVENT
BEGIN:VEVENT
DTSTART;TZID=Europe/Madrid:20250226T160000
DTEND;TZID=Europe/Madrid:20250226T190000
DTSTAMP:20260424T213950
CREATED:20250203T160327Z
LAST-MODIFIED:20250203T160327Z
UID:5112-1740585600-1740596400@wikimedia.es
SUMMARY:Actividad: Escritoras españolas en Wikipedia (online)
DESCRIPTION:El proyecto «Bibliografía de Escritoras Españolas (BIESES)\, en colaboración con Wikimedia España\, propone\, una vez más\, una actividad para promover la participación activa en la recuperación y difusión de las escritoras anteriores a 1800 y su legado. \nSu objetivo es la ampliación y edición de las entradas existentes en Wikipedia sobre escritoras españolas. De esta manera\, se contribuye a la divulgación de sus figuras y obras\, haciéndolas más accesibles para un público más amplio. \nLa actividad tendrá lugar el próximo día miércoles 26 de febrero de 16 a 19 horas\, en modalidad virtual. Contaremos\, además\, con Rubén Ojeda\, responsable de proyectos de Wikimedia España. \nInscripciones aquí. 
URL:https://wikimedia.es/evento/actividad-escritoras-espanolas-en-wikipedia-online/
CATEGORIES:Editatona,Institucional
END:VEVENT
BEGIN:VEVENT
DTSTART;TZID=Europe/Madrid:20250227T190000
DTEND;TZID=Europe/Madrid:20250227T200000
DTSTAMP:20260424T213950
CREATED:20250129T120219Z
LAST-MODIFIED:20250129T120219Z
UID:5114-1740682800-1740686400@wikimedia.es
SUMMARY:Wiki café mensual (comunidad socia)
DESCRIPTION:Encuentros mensuales de nuestra comunidad asociada para hablar temas de interés para la organización. Se celebran los últimos jueves de cada mes a las 19hs\, vía Zoom.
URL:https://wikimedia.es/evento/wiki-cafe-mensual-comunidad-socia/
CATEGORIES:Comunidad
END:VEVENT
END:VCALENDAR