BEGIN:VCALENDAR
VERSION:2.0
PRODID:-//WIKIMEDIA ESPAÑA - ECPv6.15.20//NONSGML v1.0//EN
CALSCALE:GREGORIAN
METHOD:PUBLISH
X-WR-CALNAME:WIKIMEDIA ESPAÑA
X-ORIGINAL-URL:https://wikimedia.es
X-WR-CALDESC:Eventos para WIKIMEDIA ESPAÑA
REFRESH-INTERVAL;VALUE=DURATION:PT1H
X-Robots-Tag:noindex
X-PUBLISHED-TTL:PT1H
BEGIN:VTIMEZONE
TZID:Europe/Madrid
BEGIN:DAYLIGHT
TZOFFSETFROM:+0100
TZOFFSETTO:+0200
TZNAME:CEST
DTSTART:20250330T010000
END:DAYLIGHT
BEGIN:STANDARD
TZOFFSETFROM:+0200
TZOFFSETTO:+0100
TZNAME:CET
DTSTART:20251026T010000
END:STANDARD
BEGIN:DAYLIGHT
TZOFFSETFROM:+0100
TZOFFSETTO:+0200
TZNAME:CEST
DTSTART:20260329T010000
END:DAYLIGHT
BEGIN:STANDARD
TZOFFSETFROM:+0200
TZOFFSETTO:+0100
TZNAME:CET
DTSTART:20261025T010000
END:STANDARD
BEGIN:DAYLIGHT
TZOFFSETFROM:+0100
TZOFFSETTO:+0200
TZNAME:CEST
DTSTART:20270328T010000
END:DAYLIGHT
BEGIN:STANDARD
TZOFFSETFROM:+0200
TZOFFSETTO:+0100
TZNAME:CET
DTSTART:20271031T010000
END:STANDARD
END:VTIMEZONE
BEGIN:VEVENT
DTSTART;TZID=Europe/Madrid:20260421T163000
DTEND;TZID=Europe/Madrid:20260421T193000
DTSTAMP:20260421T170354
CREATED:20260325T134430Z
LAST-MODIFIED:20260325T134430Z
UID:7895-1776789000-1776799800@wikimedia.es
SUMMARY:Curso: creación de Wikipedia en A Fala (Cáceres)
DESCRIPTION:El Centro de Profesorado y Recursos de Hoyos (C.P.R.)\, en colaboración con la Escuela Oficial de Idiomas de Cáceres\, organiza un curso de edición en Wikipedia en A Fala\, dirigido a docentes y abierto a falantis con conocimientos básicos de internet. Parte de la formación será impartida por Mextu Ramilo Araujo\, de Wikimedia España. \nEl curso combina el uso educativo de Wikipedia con la promoción de A Fala\, lengua vernácula de Valverde del Fresno\, Eljas y San Martín de Trevejo\, declarada Bien de Interés Cultural en 2001. \nFechas y lugares (16:30–19:30): \n\n15 de abril: CEIP Nª Sª de la Asunción (Valverde del Fresno)\n21 de abril: CEIP Divina Pastora (Eljas)\n28 de abril: CEIP Sta. Rosa de Lima (San Martín de Trevejo)\n5 de mayo: CPR de Hoyos\n\nDirigido a docentes y personas hablantes de A Fala \n\nRequisitos: Conocimientos básicos de internet\nInscripciones: AQUÍ
URL:https://wikimedia.es/evento/curso-creacion-de-wikipedia-en-a-fala-caceres-2/
CATEGORIES:Taller
END:VEVENT
BEGIN:VEVENT
DTSTART;TZID=Europe/Madrid:20260429T183000
DTEND;TZID=Europe/Madrid:20260429T203000
DTSTAMP:20260421T170354
CREATED:20260325T125917Z
LAST-MODIFIED:20260325T135631Z
UID:7884-1777487400-1777494600@wikimedia.es
SUMMARY:Formación: Mujeres STEM en Wikipedia (Málaga)
DESCRIPTION:Wikimedia España y Yes We Tech organizan varias sesiones formativas dentro del programa “Mujeres STEM: formación en proyectos Wikimedia”\, orientadas a la creación y mejora de contenidos sobre mujeres científicas y tecnólogas en los proyectos Wikimedia. \nLas formaciones se desarrollarán en las siguientes fechas: \n\n10 de abril (presencial\, Málaga): introducción a Wikipedia y edición básica (17:00–20:30)\n29 de abril (online): introducción a Wikidata (18:30–20:30)\n30 de abril (online): introducción a Wikimedia Commons (18:30–20:30)\n\nDirigido a: Comunidad de Yes We Tech y personas interesadas en el conocimiento libre \n\nModalidad: Presencial y online\nPlazas: Limitadas\nInscripciones: AQUÍ\nInscripciones si no lo eres: afala.eoicc@gmail.com 
URL:https://wikimedia.es/evento/formacion-mujeres-stem-en-wikipedia-malaga/
CATEGORIES:Taller
END:VEVENT
BEGIN:VEVENT
DTSTART;TZID=Europe/Madrid:20260430T183000
DTEND;TZID=Europe/Madrid:20260430T203000
DTSTAMP:20260421T170354
CREATED:20260325T130118Z
LAST-MODIFIED:20260325T130118Z
UID:7888-1777573800-1777581000@wikimedia.es
SUMMARY:Formación: Mujeres STEM en Wikipedia (Málaga)
DESCRIPTION:Wikimedia España y Yes We Tech organizan varias sesiones formativas dentro del programa “Mujeres STEM: formación en proyectos Wikimedia”\, orientadas a la creación y mejora de contenidos sobre mujeres científicas y tecnólogas en los proyectos Wikimedia. \nLas formaciones se desarrollarán en las siguientes fechas: \n\n10 de abril (presencial\, Málaga): introducción a Wikipedia y edición básica (17:00–20:30)\n29 de abril (online): introducción a Wikidata (18:30–20:30)\n30 de abril (online): introducción a Wikimedia Commons (18:30–20:30)\n\nDirigido a: Comunidad de Yes We Tech y personas interesadas en el conocimiento libre \n\nModalidad: Presencial y online\nPlazas: Limitadas\nInscripciones: AQUÍ
URL:https://wikimedia.es/evento/formacion-mujeres-stem-en-wikipedia-malaga-2/
CATEGORIES:Taller
END:VEVENT
END:VCALENDAR