BEGIN:VCALENDAR
VERSION:2.0
PRODID:-//WIKIMEDIA ESPAÑA - ECPv6.15.20//NONSGML v1.0//EN
CALSCALE:GREGORIAN
METHOD:PUBLISH
X-WR-CALNAME:WIKIMEDIA ESPAÑA
X-ORIGINAL-URL:https://wikimedia.es
X-WR-CALDESC:Eventos para WIKIMEDIA ESPAÑA
REFRESH-INTERVAL;VALUE=DURATION:PT1H
X-Robots-Tag:noindex
X-PUBLISHED-TTL:PT1H
BEGIN:VTIMEZONE
TZID:Europe/Madrid
BEGIN:DAYLIGHT
TZOFFSETFROM:+0100
TZOFFSETTO:+0200
TZNAME:CEST
DTSTART:20240331T010000
END:DAYLIGHT
BEGIN:STANDARD
TZOFFSETFROM:+0200
TZOFFSETTO:+0100
TZNAME:CET
DTSTART:20241027T010000
END:STANDARD
BEGIN:DAYLIGHT
TZOFFSETFROM:+0100
TZOFFSETTO:+0200
TZNAME:CEST
DTSTART:20250330T010000
END:DAYLIGHT
BEGIN:STANDARD
TZOFFSETFROM:+0200
TZOFFSETTO:+0100
TZNAME:CET
DTSTART:20251026T010000
END:STANDARD
BEGIN:DAYLIGHT
TZOFFSETFROM:+0100
TZOFFSETTO:+0200
TZNAME:CEST
DTSTART:20260329T010000
END:DAYLIGHT
BEGIN:STANDARD
TZOFFSETFROM:+0200
TZOFFSETTO:+0100
TZNAME:CET
DTSTART:20261025T010000
END:STANDARD
END:VTIMEZONE
BEGIN:VEVENT
DTSTART;VALUE=DATE:20251001
DTEND;VALUE=DATE:20251016
DTSTAMP:20260426T023033
CREATED:20250930T130127Z
LAST-MODIFIED:20250930T130436Z
UID:7336-1759276800-1760572799@wikimedia.es
SUMMARY:Editatona sobre escritoras (online)
DESCRIPTION:Con motivo del Día de las Escritoras (15 de octubre)\, organizamos una nueva edición de la Editatona de Escritoras\, una iniciativa para visibilizar en Wikipedia el legado de escritoras\, periodistas y traductoras de la Península Ibérica. \nDurante dos semanas\, podrás crear y mejorar artículos en euskera\, gallego\, portugués y castellano\, contribuyendo así a reducir la brecha de género en el conocimiento libre. \nOrganizan: Wikimedia España\, Wikimedia Portugal\, Wikipedia en Gallego y Grupo de Wikimedistas Vascos. \nAbierto a cualquier persona interesada\, con o sin experiencia previa en edición. Inscríbete AQUÍ. 
URL:https://wikimedia.es/evento/editatona-sobre-escritoras-online/
CATEGORIES:Comunidad,Editatona
ATTACH;FMTTYPE=image/jpeg:https://wikimedia.es/wp-content/uploads/2025/09/Young_woman_writing_a_letter_1874_by_Federico_Zandomeneghi.jpg
END:VEVENT
BEGIN:VEVENT
DTSTART;VALUE=DATE:20251010
DTEND;VALUE=DATE:20251013
DTSTAMP:20260426T023033
CREATED:20251001T104341Z
LAST-MODIFIED:20251001T104341Z
UID:7349-1760054400-1760313599@wikimedia.es
SUMMARY:Encuentro de la Comunidad Hispanohablante (Argentina)
DESCRIPTION:El Encuentro de la Comunidad Hispanohablante 2025\, es un espacio dedicado al diálogo\, la construcción colectiva y la colaboración. Este evento busca definir una agenda común\, identificar desafíos y promover conversaciones estratégicas para el movimiento Wikimedia en nuestro idioma. \nSe realizará del 10 al 12 de octubre en la ciudad de Buenos Aires\, Argentina. \nMás información AQUÍ. 
URL:https://wikimedia.es/evento/encuentro-de-la-comunidad-hispanohablante-argentina/
CATEGORIES:Comunidad
END:VEVENT
BEGIN:VEVENT
DTSTART;VALUE=DATE:20251015
DTEND;VALUE=DATE:20251016
DTSTAMP:20260426T023033
CREATED:20251001T104837Z
LAST-MODIFIED:20251001T105411Z
UID:7351-1760486400-1760572799@wikimedia.es
SUMMARY:Monthly Wikimedia Research Showcase (online)
DESCRIPTION:El Showcase de Investigación Wikimedia Monthly es un escaparate público de investigaciones recientes del Equipo de Investigación de la Fundación Wikimedia y presentadores invitados de la comunidad académica. La vitrina se celebra prácticamente cada tercer miércoles del mes a las 9:30 a.m. Hora del Pacífico/18:30 p. m. CET y se transmite en vivo en YouTube. \nEn esta oportunidad\, participará Gustavo Candela\, miembro de la Junta Directiva de Wikimedia España.
URL:https://wikimedia.es/evento/monthly-wikimedia-research-showcase/
CATEGORIES:Comunidad
END:VEVENT
BEGIN:VEVENT
DTSTART;TZID=Europe/Madrid:20251017T160000
DTEND;TZID=Europe/Madrid:20251017T190000
DTSTAMP:20260426T023033
CREATED:20251001T123138Z
LAST-MODIFIED:20251001T124500Z
UID:7379-1760716800-1760727600@wikimedia.es
SUMMARY:Editatona: Día Mundial de la Menopausia (Barcelona y online)
DESCRIPTION:Esta editatona forma parte de las actividades del Wikiproyecto Mujeres y Salud y se suma a las iniciativas globales por el Día Mundial de la Menopausia\, una jornada dedicada a romper el silencio\, visibilizar las desigualdades en el ámbito sanitario y reclamar una atención digna\, justa y adaptada a las necesidades de todas las mujeres. \nEl 17 de octubre nos reuniremos en Ca la Dona (C/ Ripoll\, 25\, Barcelona) de 16:00 a 19:00 horas. Durante la sesión\, nos centraremos en mejorar y crear artículos en Wikipedia sobre la menopausia y la salud en las etapas posteriores a la vida reproductiva\, integrando una perspectiva de género y justicia social. El objetivo es visibilizar experiencias diversas\, combatir estigmas y generar conocimiento libre y de calidad. \nObjetivos principales: \n\nCrear contenido enciclopédico riguroso\, actualizado y multilingüe.\nCombatir el sesgo de género en la información médica.\nAbordar la menopausia como una cuestión de derechos humanos y salud pública.\nRomper tabúes y desinformación desde el conocimiento libre.\n\nPrograma: \n\n16:00 – Recepción y bienvenida\n16:30 – Taller de edición en Wikipedia\n17:00 – Edición colectiva\n19:00 – Cierre de la actividad\n\nAbierta a todas las personas\, con o sin experiencia en edición. ¡Solo necesitas tu portátil y ganas de transformar el conocimiento! \nMás información e inscripciones AQUÍ. 
URL:https://wikimedia.es/evento/editatona-dia-mundial-de-la-menopausia/
CATEGORIES:Comunidad,Editatona
ATTACH;FMTTYPE=image/png:https://wikimedia.es/wp-content/uploads/2025/10/castella.wikimenopausia.png
END:VEVENT
BEGIN:VEVENT
DTSTART;TZID=Europe/Madrid:20251021T183000
DTEND;TZID=Europe/Madrid:20251021T203000
DTSTAMP:20260426T023033
CREATED:20251001T122448Z
LAST-MODIFIED:20251015T152015Z
UID:7376-1761071400-1761078600@wikimedia.es
SUMMARY:Conversatorio: "Sin mujeres no hay verdad\, ni justicia\, ni reparación" (Madrid y online)
DESCRIPTION:¿De qué trata?Un espacio de reflexión crítica sobre la Ley de Memoria Democrática desde una perspectiva feminista. Nos preguntamos: ¿dónde están las mujeres en la memoria oficial? \nOrganiza: Cuarto Propio en Wikipedia (CPW) \n\nFecha y hora: 21 de octubre de 2025\, 18:30 h\nLugar: Universidad Rey Juan Carlos (C. de Quintana\, 21\, Moncloa – Aravaca\, 28008 Madrid)\n\nParticipan: \n\nConsuelo García del Cid\, superviviente del Patronato de Protección a la Mujer\, escritora y activista.\nAlicia Torija López\, diputada de Más Madrid en la Asamblea de Madrid\, doctora en historia y especialista en políticas públicas de memoria.\nSoledad Luque Delgado\, presidenta de la asociación Todos los niños robados son también mis niños e investigadora en estudios de género.\n\nSobre la actividad:Este conversatorio forma parte de los encuentros periódicos que CPW organiza desde 2015 para promover la reflexión y la edición feminista en Wikipedia. En esta ocasión\, se enmarca dentro de las acciones conmemorativas por el X Aniversario del colectivo. \nUna oportunidad para pensar en colectivo cómo narramos la historia… y quiénes quedan fuera. \nInscripciones AQUÍ. 
URL:https://wikimedia.es/evento/conversatorio-sin-mujeres-no-hay-verdad-ni-justicia-ni-reparacion-madrid-y-online/
CATEGORIES:Actividades,Comunidad
ATTACH;FMTTYPE=image/jpeg:https://wikimedia.es/wp-content/uploads/2025/10/photo_2025-10-15_17-12-44.jpg
END:VEVENT
BEGIN:VEVENT
DTSTART;VALUE=DATE:20251024
DTEND;VALUE=DATE:20251102
DTSTAMP:20260426T023033
CREATED:20251007T091019Z
LAST-MODIFIED:20251007T091019Z
UID:7414-1761264000-1762041599@wikimedia.es
SUMMARY:Cobertura: Semana Internacional de Cine de Valladolid (Seminci)
DESCRIPTION:Del 24 de octubre al 1 de noviembre\, Wikimedia España estará presente en la Semana Internacional de Cine de Valladolid (Seminci) documentando el evento a través de la fotografía. \nNuestro socio Pedro Pacheco participará tomando imágenes de esta cita clave del cine internacional\, que serán subidas a Wikimedia Commons para ampliar el contenido libre sobre cultura cinematográfica y sus protagonistas. \nUn año más\, seguimos sumando al conocimiento libre desde los espacios culturales más relevantes.
URL:https://wikimedia.es/evento/cobertura-semana-internacional-de-cine-de-valladolid-seminci/
CATEGORIES:Comunidad,Institucional
END:VEVENT
BEGIN:VEVENT
DTSTART;VALUE=DATE:20251030
DTEND;VALUE=DATE:20251102
DTSTAMP:20260426T023033
CREATED:20251001T120420Z
LAST-MODIFIED:20251001T120724Z
UID:7373-1761782400-1762041599@wikimedia.es
SUMMARY:GLAM Wiki 2025 (Portugal)
DESCRIPTION:Un encuentro internacional clave para la comunidad GLAM Wiki: un espacio para compartir logros\, aprender en colectivo\, intercambiar experiencias y construir el futuro del acceso libre al patrimonio cultural. \nOrganizan: Wikimedia Portugal (WMPT) y Wiki Editoras Lx (WELx) \n¿A quién va dirigida? \n\nWikimedistas que colaboran con instituciones culturales\nProfesionales de galerías\, bibliotecas\, archivos y museos.\nInvestigadores/as y académicos/as del ámbito del conocimiento abierto.\nActivistas y defensores/as del acceso libre al patrimonio.\nOrganizaciones externas comprometidas con la equidad del conocimiento.\n\nInscripción abierta hasta el 9 de octubre de 2025 (fecha límite extendida) o hasta completar los 300 asientos disponibles. \n¡Una cita imprescindible para quienes creen en la cultura libre\, el acceso abierto y la colaboración global! \nMás información AQUÍ. 
URL:https://wikimedia.es/evento/glam-wiki-2025-portugal/
CATEGORIES:Comunidad
END:VEVENT
END:VCALENDAR