BEGIN:VCALENDAR
VERSION:2.0
PRODID:-//WIKIMEDIA ESPAÑA - ECPv6.15.20//NONSGML v1.0//EN
CALSCALE:GREGORIAN
METHOD:PUBLISH
X-WR-CALNAME:WIKIMEDIA ESPAÑA
X-ORIGINAL-URL:https://wikimedia.es
X-WR-CALDESC:Eventos para WIKIMEDIA ESPAÑA
REFRESH-INTERVAL;VALUE=DURATION:PT1H
X-Robots-Tag:noindex
X-PUBLISHED-TTL:PT1H
BEGIN:VTIMEZONE
TZID:Europe/Madrid
BEGIN:DAYLIGHT
TZOFFSETFROM:+0100
TZOFFSETTO:+0200
TZNAME:CEST
DTSTART:20250330T010000
END:DAYLIGHT
BEGIN:STANDARD
TZOFFSETFROM:+0200
TZOFFSETTO:+0100
TZNAME:CET
DTSTART:20251026T010000
END:STANDARD
BEGIN:DAYLIGHT
TZOFFSETFROM:+0100
TZOFFSETTO:+0200
TZNAME:CEST
DTSTART:20260329T010000
END:DAYLIGHT
BEGIN:STANDARD
TZOFFSETFROM:+0200
TZOFFSETTO:+0100
TZNAME:CET
DTSTART:20261025T010000
END:STANDARD
BEGIN:DAYLIGHT
TZOFFSETFROM:+0100
TZOFFSETTO:+0200
TZNAME:CEST
DTSTART:20270328T010000
END:DAYLIGHT
BEGIN:STANDARD
TZOFFSETFROM:+0200
TZOFFSETTO:+0100
TZNAME:CET
DTSTART:20271031T010000
END:STANDARD
END:VTIMEZONE
BEGIN:VEVENT
DTSTART;VALUE=DATE:20260313
DTEND;VALUE=DATE:20260314
DTSTAMP:20260419T165829
CREATED:20260227T134032Z
LAST-MODIFIED:20260313T093114Z
UID:7809-1773360000-1773446399@wikimedia.es
SUMMARY:Taller | Edición Visualiza-T UCA (Interna)
DESCRIPTION:En el marco del Proyecto UCA.Iguala de la Universidad de Cádiz\, se celebra una Editatona Visualiza-T\, una jornada práctica de subida de información y edición en Wikipedia con el apoyo de Wikimedia España. \n📅 Cuándo: viernes 13 de marzo📍 Dónde: Campus de Puerto Real (Cádiz)🖥️ Sesión presencial \nUna oportunidad para aprender a editar y contribuir a un conocimiento más igualitario y diverso en los proyectos Wikimedia. \n📌 Más información: AQUÍ
URL:https://wikimedia.es/evento/taller-edicion-visualiza-t-uca-interna/
CATEGORIES:Editatón
ATTACH;FMTTYPE=image/png:https://wikimedia.es/wp-content/uploads/2026/02/OK-10.png
END:VEVENT
BEGIN:VEVENT
DTSTART;TZID=Europe/Madrid:20260325T160000
DTEND;TZID=Europe/Madrid:20260325T190000
DTSTAMP:20260419T165829
CREATED:20260227T135424Z
LAST-MODIFIED:20260227T135511Z
UID:7817-1774454400-1774465200@wikimedia.es
SUMMARY:Editatón | ArchiWiki 2026: Historias que se escriben (Salamanca)
DESCRIPTION:Wikimedia España\, la Asociación de Archiveros de Castilla y León (ACAL) y la Universidad de Salamanca organizan en Salamanca la editatón “ArchiWiki: Historias que se escriben”\, centrada en la creación y mejora de contenidos en Wikipedia sobre archivos y patrimonio documental. \nLa actividad incluye dos sesiones formativas online y una editatón presencial para fomentar la participación\, la investigación y la edición colaborativa. \n\nFormación online: 16 y 23 de marzo\, 17:00–18:30 h\nEditatón presencial: Aula de informática 3\, Facultad de Traducción y Documentación (USAL)\, 16:00–19:00 h\n\n📌 Más información e inscripciones: AQUÍ
URL:https://wikimedia.es/evento/editaton-archiwiki-2026-historias-que-se-escriben-salamanca/
CATEGORIES:Editatón
END:VEVENT
END:VCALENDAR