BEGIN:VCALENDAR
VERSION:2.0
PRODID:-//WIKIMEDIA ESPAÑA - ECPv6.15.20//NONSGML v1.0//EN
CALSCALE:GREGORIAN
METHOD:PUBLISH
X-ORIGINAL-URL:https://wikimedia.es
X-WR-CALDESC:Eventos para WIKIMEDIA ESPAÑA
REFRESH-INTERVAL;VALUE=DURATION:PT1H
X-Robots-Tag:noindex
X-PUBLISHED-TTL:PT1H
BEGIN:VTIMEZONE
TZID:Europe/Madrid
BEGIN:DAYLIGHT
TZOFFSETFROM:+0100
TZOFFSETTO:+0200
TZNAME:CEST
DTSTART:20230326T010000
END:DAYLIGHT
BEGIN:STANDARD
TZOFFSETFROM:+0200
TZOFFSETTO:+0100
TZNAME:CET
DTSTART:20231029T010000
END:STANDARD
BEGIN:DAYLIGHT
TZOFFSETFROM:+0100
TZOFFSETTO:+0200
TZNAME:CEST
DTSTART:20240331T010000
END:DAYLIGHT
BEGIN:STANDARD
TZOFFSETFROM:+0200
TZOFFSETTO:+0100
TZNAME:CET
DTSTART:20241027T010000
END:STANDARD
BEGIN:DAYLIGHT
TZOFFSETFROM:+0100
TZOFFSETTO:+0200
TZNAME:CEST
DTSTART:20250330T010000
END:DAYLIGHT
BEGIN:STANDARD
TZOFFSETFROM:+0200
TZOFFSETTO:+0100
TZNAME:CET
DTSTART:20251026T010000
END:STANDARD
END:VTIMEZONE
BEGIN:VEVENT
DTSTART;VALUE=DATE:20240201
DTEND;VALUE=DATE:20240401
DTSTAMP:20260422T011932
CREATED:20240227T152758Z
LAST-MODIFIED:20250130T082537Z
UID:3051-1706745600-1711929599@wikimedia.es
SUMMARY:Concurso Wiki Loves Folklore
DESCRIPTION:Wiki Loves Folklore es concurso fotográfico internacional para celebrar la diversidad cultural. \nEn España\, hacemos un llamamiento a la gente para que buceen en sus archivos fotográficos o visiten sitios relacionados con el folclore y la cultura española\, y compartan sus imágenes.\n\nEl objetivo básico del concurso es recopilar fotos de la diversidad cultural humana para ilustrar artículos de Wikipedia y otros proyectos Wikimedia. Las fotos deben corresponder al tema\, incluyendo\, pero no limitándose a fiestas\, cultura material\, bailes\, gastronomía\, indumentaria o vida cotidiana\, haciendo hincapié en la cultura popular de España.\n\nCalendario del concurso:\n\n1 de febrero: Se abre oficialmente el concurso y comienza la carga de fotos.\n31 de marzo: Se cierra el concurso y finaliza la subida de fotos.\nLos resultados internacionales se publicarán a finales de julio de 2024 en la página Wiki Loves Folklore 2024 de Commons.\n\n\nPara participar:\n\nIdentifica algún patrimonio cultural inmaterial español.\nHaz fotos\, o bucea en tus archivos fotográficos.\nSi no tienes una\, crea una cuenta en Wikimedia.\nSube tus imágenes.\n\nMás información\, en nuestra página en Commons: https://commons.wikimedia.org/wiki/Commons:Wiki_Loves_Folklore_2024_in_Spain
URL:https://wikimedia.es/evento/concurso-wiki-loves-folklore/
LOCATION:Online
CATEGORIES:Concurso
ATTACH;FMTTYPE=image/jpeg:https://wikimedia.es/wp-content/uploads/2024/02/Self_traditional_folk_face_painting_2-scaled.jpg
END:VEVENT
BEGIN:VEVENT
DTSTART;VALUE=DATE:20240323
DTEND;VALUE=DATE:20240324
DTSTAMP:20260422T011932
CREATED:20240228T092908Z
LAST-MODIFIED:20240304T160630Z
UID:3101-1711152000-1711238399@wikimedia.es
SUMMARY:Editatón - Maratón online ¡Alto! Mujeres haciendo historia
DESCRIPTION:¡Alto! Mujeres haciendo historia es la campaña del mes de marzo en los proyectos Wikimedia que busca mejorar contenidos sobre las mujeres y su historia en Wikipedia en español y en portugués y en Wikimedia Commons. También invitamos a las mujeres a editar Wikipedia y colaborar con Wikimedia Commons\, y así formar parte de la comunidad de wikimedistas. \nMaratón online en torno al Día Internacional de la Mujer. Inscríbete aquí
URL:https://wikimedia.es/evento/editaton-maraton-online-alto-mujeres-haciendo-historia/
LOCATION:Online
CATEGORIES:Actividades,Editatón
ATTACH;FMTTYPE=image/png:https://wikimedia.es/wp-content/uploads/2024/03/RRSS-8M-5.png
END:VEVENT
BEGIN:VEVENT
DTSTART;TZID=Europe/Madrid:20240323T120000
DTEND;TZID=Europe/Madrid:20240323T140000
DTSTAMP:20260422T011932
CREATED:20240227T165359Z
LAST-MODIFIED:20240227T165359Z
UID:3089-1711195200-1711202400@wikimedia.es
SUMMARY:Actividad - Laguardia
DESCRIPTION:Actividad que es parte del proyecto #ConMiWiki realizado en Laguardia: charla de introducción. Debate de Toloño – Sierra Cantabria. \nMás información aquí.  \n 
URL:https://wikimedia.es/evento/actividad-laguardia/
LOCATION:La Casa Garcetas. Oficina de Turismo.\, Álava
CATEGORIES:Actividades
ATTACH;FMTTYPE=image/jpeg:https://wikimedia.es/wp-content/uploads/2024/01/IgnacioAldecoa_Taller_1-scaled.jpg
END:VEVENT
END:VCALENDAR